BEGIN:VCALENDAR
VERSION:2.0
PRODID:-//Plone.org//NONSGML plone.app.event//EN
X-WR-TIMEZONE:Europe/Madrid
BEGIN:VEVENT
SUMMARY:Presentació del llibre: 300, la història continua
DTSTART;TZID=Europe/Madrid;VALUE=DATE-TIME:20150417T193000
DTEND;TZID=Europe/Madrid;VALUE=DATE-TIME:20150417T203000
DTSTAMP;VALUE=DATE-TIME:20260420T190336Z
UID:237f714250544b505a46c54d336ebf29
CREATED;VALUE=DATE-TIME:20150417T000000Z
CATEGORIES:Conferència
LOCATION:Sala Noble del C.C.Calisay - Riera Pare Fita, 31
ORGANIZER:Plataforma per la Llengua
DESCRIPTION:amb el periodista i presentador de TV3 Antoni Tortajada
URL:https://arenysdemar.cat/document.php?id=29394
END:VEVENT
END:VCALENDAR