BEGIN:VCALENDAR
VERSION:2.0
PRODID:-//Plone.org//NONSGML plone.app.event//EN
X-WR-TIMEZONE:Europe/Madrid
BEGIN:VEVENT
SUMMARY:Cicle de conferències-debat entorn als béns comuns: L'aigua com un bé comú
DTSTART;TZID=Europe/Madrid;VALUE=DATE-TIME:20150306T193000
DTEND;TZID=Europe/Madrid;VALUE=DATE-TIME:20150306T203000
DTSTAMP;VALUE=DATE-TIME:20260423T154931Z
UID:944a1e82b5dd242e032ce1a030d10ac5
CREATED;VALUE=DATE-TIME:20150306T000000Z
CATEGORIES:Conferència
LOCATION:Ateneu Arenyenc - Anselm Clavé, 22
ORGANIZER:Banc del Temps d´Arenys de Mar, El Rial Cooperativa de Consum i Ateneu Arenyenc
COMMENT:Preu: Gratuït
DESCRIPTION:Sobirania popular i apoderament
URL:https://arenysdemar.cat/document.php?id=29397
END:VEVENT
END:VCALENDAR