BEGIN:VCALENDAR
VERSION:2.0
PRODID:-//Plone.org//NONSGML plone.app.event//EN
X-WR-TIMEZONE:Europe/Madrid
BEGIN:VEVENT
SUMMARY:Dijous sardanes
DTSTART;TZID=Europe/Madrid;VALUE=DATE-TIME:20150827T193000
DTEND;TZID=Europe/Madrid;VALUE=DATE-TIME:20150827T203000
DTSTAMP;VALUE=DATE-TIME:20260420T091716Z
UID:7f7b078bffeba04b6c3514a1e7bc62cf
CREATED;VALUE=DATE-TIME:20150827T000000Z
CATEGORIES:Música
LOCATION:Plaça de l'Església - Plaça de l'Església
ORGANIZER:Ateneu Arenyenc i Regidoria de Cultura
DESCRIPTION:amb la Cobla Marinada
URL:https://arenysdemar.cat/document.php?id=29411
END:VEVENT
END:VCALENDAR