BEGIN:VCALENDAR
VERSION:2.0
PRODID:-//Plone.org//NONSGML plone.app.event//EN
X-WR-TIMEZONE:Europe/Madrid
BEGIN:VEVENT
SUMMARY:Torneig Volei Platja Xics
DTSTART;TZID=Europe/Madrid;VALUE=DATE-TIME:20150405T100000
DTEND;TZID=Europe/Madrid;VALUE=DATE-TIME:20150405T110000
DTSTAMP;VALUE=DATE-TIME:20260420T034928Z
UID:32265a3baa44948b39b4d4e0935de58d
CREATED;VALUE=DATE-TIME:20150405T000000Z
CATEGORIES:Esports
LOCATION:Platja Picòrdia
ORGANIZER:Club Volei Platja
URL:https://arenysdemar.cat/document.php?id=29529
END:VEVENT
END:VCALENDAR