BEGIN:VCALENDAR
VERSION:2.0
PRODID:-//Plone.org//NONSGML plone.app.event//EN
X-WR-TIMEZONE:Europe/Madrid
BEGIN:VEVENT
SUMMARY:Festa al carrer Escolàpies
DTSTART;TZID=Europe/Madrid;VALUE=DATE-TIME:20150613T000000
DTEND;TZID=Europe/Madrid;VALUE=DATE-TIME:20150613T010000
DTSTAMP;VALUE=DATE-TIME:20260421T071544Z
UID:3074b1ed8f0100d732119e5e052a1f03
CREATED;VALUE=DATE-TIME:20150613T000000Z
CATEGORIES:Festa
LOCATION:al carrer Escolàpies
ORGANIZER:Comissió de festes C. Escolàpies
URL:https://arenysdemar.cat/document.php?id=29538
END:VEVENT
END:VCALENDAR