BEGIN:VCALENDAR
VERSION:2.0
PRODID:-//Plone.org//NONSGML plone.app.event//EN
X-WR-TIMEZONE:Europe/Madrid
BEGIN:VEVENT
SUMMARY:Conferència d'Història Local: Jaume Partagàs i Rabell: fabricant, inventor i...arenyenc
DTSTART;TZID=Europe/Madrid;VALUE=DATE-TIME:20150526T180000
DTEND;TZID=Europe/Madrid;VALUE=DATE-TIME:20150526T190000
DTSTAMP;VALUE=DATE-TIME:20260425T014859Z
UID:2a4eb1fe33249ff86ea90dad0673876b
CREATED;VALUE=DATE-TIME:20150526T000000Z
CATEGORIES:Conferència
LOCATION:Sala Josep Maria Arnau del C.C.Calisay - Riera del Pare Fita, 31
ORGANIZER:Aula d'Extensió Universitària
DESCRIPTION:a càrrec de Ramon Verdaguer, advocat
URL:https://arenysdemar.cat/document.php?id=29557
END:VEVENT
END:VCALENDAR