BEGIN:VCALENDAR
VERSION:2.0
PRODID:-//Plone.org//NONSGML plone.app.event//EN
X-WR-TIMEZONE:Europe/Madrid
BEGIN:VEVENT
SUMMARY:Ball del dissabte
DTSTART;TZID=Europe/Madrid;VALUE=DATE-TIME:20150502T223000
DTEND;TZID=Europe/Madrid;VALUE=DATE-TIME:20150502T233000
DTSTAMP;VALUE=DATE-TIME:20260424T130555Z
UID:c6c9ddf231d5227b77bb00f7294adb9c
CREATED;VALUE=DATE-TIME:20150502T000000Z
CATEGORIES:Música
LOCATION:Ateneu Arenyenc
ORGANIZER:Ateneu Arenyenc
COMMENT:Preu: Soci: 5 euros, No Soci: 7 euros
DESCRIPTION:a càrrec del duet Maky Maky
URL:https://arenysdemar.cat/document.php?id=29558
END:VEVENT
END:VCALENDAR