BEGIN:VCALENDAR
VERSION:2.0
PRODID:-//Plone.org//NONSGML plone.app.event//EN
X-WR-TIMEZONE:Europe/Madrid
BEGIN:VEVENT
SUMMARY:Conferència de Disseny: Diseny + empatia + mediació = Eina de canvi social
DTSTART;TZID=Europe/Madrid;VALUE=DATE-TIME:20150505T180000
DTEND;TZID=Europe/Madrid;VALUE=DATE-TIME:20150505T190000
DTSTAMP;VALUE=DATE-TIME:20260420T220704Z
UID:776b7b9004105641c6df9f2e353f869a
CREATED;VALUE=DATE-TIME:20150505T000000Z
CATEGORIES:Conferència
LOCATION:Sala Josep Maria Arnau del C.C.Calisay - Riera del Pare Fita, 31
ORGANIZER:Aula d'Extensió Universitària
DESCRIPTION:a càrrec d'Òscar Guayabero, dissenyador i escriptor
URL:https://arenysdemar.cat/document.php?id=29560
END:VEVENT
END:VCALENDAR