BEGIN:VCALENDAR
VERSION:2.0
PRODID:-//Plone.org//NONSGML plone.app.event//EN
X-WR-TIMEZONE:Europe/Madrid
BEGIN:VEVENT
SUMMARY:Ball de tarda
DTSTART;TZID=Europe/Madrid;VALUE=DATE-TIME:20150503T183000
DTEND;TZID=Europe/Madrid;VALUE=DATE-TIME:20150503T193000
DTSTAMP;VALUE=DATE-TIME:20260424T080914Z
UID:faf986254572623eeb4edefd3adfcfc1
CREATED;VALUE=DATE-TIME:20150503T000000Z
CATEGORIES:Música
LOCATION:Ateneu Arenyenc
ORGANIZER:Ateneu Arenyenc
COMMENT:Preu: 2 euros
DESCRIPTION:amb D.M.Ateneu
URL:https://arenysdemar.cat/document.php?id=29563
END:VEVENT
END:VCALENDAR