BEGIN:VCALENDAR
VERSION:2.0
PRODID:-//Plone.org//NONSGML plone.app.event//EN
X-WR-TIMEZONE:Europe/Madrid
BEGIN:VEVENT
SUMMARY:Indians, arenyencs del nou món
DTSTART;TZID=Europe/Madrid;VALUE=DATE-TIME:20150523T213000
DTEND;TZID=Europe/Madrid;VALUE=DATE-TIME:20150523T223000
DTSTAMP;VALUE=DATE-TIME:20260425T034947Z
UID:5447a8ddbc1182cea06268bce8a34f1b
CREATED;VALUE=DATE-TIME:20150523T000000Z
CATEGORIES:Teatre
LOCATION:Escales Reials del Port, amarratge de La Marinada
ORGANIZER:Ajuntament d'Arenys de Mar
DESCRIPTION:Espectacle de carrer
URL:https://arenysdemar.cat/document.php?id=29615
END:VEVENT
END:VCALENDAR