BEGIN:VCALENDAR
VERSION:2.0
PRODID:-//Plone.org//NONSGML plone.app.event//EN
X-WR-TIMEZONE:Europe/Madrid
BEGIN:VEVENT
SUMMARY:Converses a la carta en alemany: Gespräche nach wahl
DTSTART;TZID=Europe/Madrid;VALUE=DATE-TIME:20150528T190000
DTEND;TZID=Europe/Madrid;VALUE=DATE-TIME:20150528T200000
DTSTAMP;VALUE=DATE-TIME:20260425T034727Z
UID:b9f056156f645d9ed1b7d4bb1efe0bf3
CREATED;VALUE=DATE-TIME:20150528T000000Z
CATEGORIES:Cursos
LOCATION:Sala d'Actes de la Biblioteca - C. Bonaire, 2
ORGANIZER:Biblioteca - Regidoria de Cultura
DESCRIPTION:a càrrec de Mireia Saurí
URL:https://arenysdemar.cat/document.php?id=29630
END:VEVENT
END:VCALENDAR