BEGIN:VCALENDAR
VERSION:2.0
PRODID:-//Plone.org//NONSGML plone.app.event//EN
X-WR-TIMEZONE:Europe/Madrid
BEGIN:VEVENT
SUMMARY:Concert: Antonio Vivaldi i la música veneciana del barroc
DTSTART;TZID=Europe/Madrid;VALUE=DATE-TIME:20150606T173000
DTEND;TZID=Europe/Madrid;VALUE=DATE-TIME:20150606T183000
DTSTAMP;VALUE=DATE-TIME:20260423T071848Z
UID:7c36571ec66916baf98c73e73bb3bcd9
CREATED;VALUE=DATE-TIME:20150606T000000Z
CATEGORIES:Música,Conferència
LOCATION:Església de Santa Maria - Plaça de l'Església
ORGANIZER:Associació Escola de Música d'Arenys de Mar
COMMENT:Preu: 5 (gratuït per als alumnes del curs Joan Vives i menors de 16 anys)
DESCRIPTION:Cloenda del curs Joan Vives
URL:https://arenysdemar.cat/document.php?id=29636
END:VEVENT
END:VCALENDAR