BEGIN:VCALENDAR
VERSION:2.0
PRODID:-//Plone.org//NONSGML plone.app.event//EN
X-WR-TIMEZONE:Europe/Madrid
BEGIN:VEVENT
SUMMARY:Camí per la salut
DTSTART;TZID=Europe/Madrid;VALUE=DATE-TIME:20150503T090000
DTEND;TZID=Europe/Madrid;VALUE=DATE-TIME:20150503T100000
DTSTAMP;VALUE=DATE-TIME:20260424T200043Z
UID:6e47c6dbe6ef9138b915b974a9450c90
CREATED;VALUE=DATE-TIME:20150503T000000Z
CATEGORIES:Esports
LOCATION:Riera, davant del C.C. Calisay
ORGANIZER:Regidoria d'Igualtat
COMMENT:Preu: Gratuït
DESCRIPTION:Mes de la Salut de les Dones
URL:https://arenysdemar.cat/document.php?id=29639
END:VEVENT
END:VCALENDAR