BEGIN:VCALENDAR
VERSION:2.0
PRODID:-//Plone.org//NONSGML plone.app.event//EN
X-WR-TIMEZONE:Europe/Madrid
BEGIN:VEVENT
SUMMARY:Learning with books. Advanced
DTSTART;TZID=Europe/Madrid;VALUE=DATE-TIME:20150522T200000
DTEND;TZID=Europe/Madrid;VALUE=DATE-TIME:20150522T210000
DTSTAMP;VALUE=DATE-TIME:20260425T034609Z
UID:aab6f3823adaf3ad76b8cc82b6b2c264
CREATED;VALUE=DATE-TIME:20150522T000000Z
CATEGORIES:Literatura
LOCATION:Sala d'Actes de la Biblioteca - C. Bonaire, 2
ORGANIZER:Biblioteca - Regidoria de Cultura
DESCRIPTION:a càrrec de Manuel Delgado
URL:https://arenysdemar.cat/document.php?id=29687
END:VEVENT
END:VCALENDAR