BEGIN:VCALENDAR
VERSION:2.0
PRODID:-//Plone.org//NONSGML plone.app.event//EN
X-WR-TIMEZONE:Europe/Madrid
BEGIN:VEVENT
SUMMARY:Sortida cap a Bellver de Cerdanya
DTSTART;TZID=Europe/Madrid;VALUE=DATE-TIME:20150609T080000
DTEND;TZID=Europe/Madrid;VALUE=DATE-TIME:20150609T090000
DTSTAMP;VALUE=DATE-TIME:20260423T092239Z
UID:90c37d0ff7196c2018c165ed0050e275
CREATED;VALUE=DATE-TIME:20150609T000000Z
CATEGORIES:Festa
LOCATION:Riera, davant del C.C. Calisay
ORGANIZER:Vocalia de Jubilats
COMMENT:Preu: 430 &euro; socis i 450 &euro; no socis. Suplement habitació 65 &euro;
Durada: Del 9 al 15 de juny.
URL:https://arenysdemar.cat/document.php?id=29699
END:VEVENT
END:VCALENDAR