BEGIN:VCALENDAR
VERSION:2.0
PRODID:-//Plone.org//NONSGML plone.app.event//EN
X-WR-TIMEZONE:Europe/Madrid
BEGIN:VEVENT
SUMMARY:8a Gimcana familiar
DTSTART;TZID=Europe/Madrid;VALUE=DATE-TIME:20150712T100000
DTEND;TZID=Europe/Madrid;VALUE=DATE-TIME:20150712T110000
DTSTAMP;VALUE=DATE-TIME:20260420T185239Z
UID:0570dc4ac5e395b69e1d4e3e6bfc636f
CREATED;VALUE=DATE-TIME:20150712T000000Z
CATEGORIES:Festa
LOCATION:Pati del C.C.Calisay i diversos indrets de la vila
ORGANIZER:Ajuntament d'Arenys de Mar i Floc Centre d'Esplai
DESCRIPTION:Gaudeix d'un matí molt agradable participant i fent proves de les de tota la vida
URL:https://arenysdemar.cat/document.php?id=29740
END:VEVENT
END:VCALENDAR