BEGIN:VCALENDAR
VERSION:2.0
PRODID:-//Plone.org//NONSGML plone.app.event//EN
X-WR-TIMEZONE:Europe/Madrid
BEGIN:VEVENT
SUMMARY:Festa al carrer Sant Pere i Plaça Bellavista
DTSTART;TZID=Europe/Madrid;VALUE=DATE-TIME:20150627T000000
DTEND;TZID=Europe/Madrid;VALUE=DATE-TIME:20150627T010000
DTSTAMP;VALUE=DATE-TIME:20260421T053645Z
UID:3e7a392a656c1f18b416f3d3f74d386b
CREATED;VALUE=DATE-TIME:20150627T000000Z
CATEGORIES:Festa
LOCATION:al carrer Sant Pere
ORGANIZER:Comissió de festes C. Sant Pere
COMMENT:Durada: També el 28 de juny
URL:https://arenysdemar.cat/document.php?id=29755
END:VEVENT
END:VCALENDAR