BEGIN:VCALENDAR
VERSION:2.0
PRODID:-//Plone.org//NONSGML plone.app.event//EN
X-WR-TIMEZONE:Europe/Madrid
BEGIN:VEVENT
SUMMARY:Crema de la bóta i focs artificials des del campanar
DTSTART;TZID=Europe/Madrid;VALUE=DATE-TIME:20150629T220000
DTEND;TZID=Europe/Madrid;VALUE=DATE-TIME:20150629T230000
DTSTAMP;VALUE=DATE-TIME:20260423T092121Z
UID:d2bfbf052d25e02d2a080d8824475942
CREATED;VALUE=DATE-TIME:20150629T000000Z
CATEGORIES:Festa
LOCATION:Plaça de l'Església - Plaça de l'Església
ORGANIZER:Ajuntament d'Arenys de Mar i Grup Crema de la Bóta
URL:https://arenysdemar.cat/document.php?id=29765
END:VEVENT
END:VCALENDAR