BEGIN:VCALENDAR
VERSION:2.0
PRODID:-//Plone.org//NONSGML plone.app.event//EN
X-WR-TIMEZONE:Europe/Madrid
BEGIN:VEVENT
SUMMARY:Inauguració de l'exposició 60 anys de Tallaferro i Flor d'Alba
DTSTART;TZID=Europe/Madrid;VALUE=DATE-TIME:20150703T200000
DTEND;TZID=Europe/Madrid;VALUE=DATE-TIME:20150703T210000
DTSTAMP;VALUE=DATE-TIME:20260423T134224Z
UID:af2db529104d108f05bfaf9687cd8e02
CREATED;VALUE=DATE-TIME:20150703T000000Z
CATEGORIES:Exposició
LOCATION:Sala Exposicions del C.C.Calisay - Riera del Pare Fita, 31
ORGANIZER:Geganters d'Arenys de Mar i Ajuntament d'Arenys de Mar
URL:https://arenysdemar.cat/document.php?id=29768
END:VEVENT
END:VCALENDAR