BEGIN:VCALENDAR
VERSION:2.0
PRODID:-//Plone.org//NONSGML plone.app.event//EN
X-WR-TIMEZONE:Europe/Madrid
BEGIN:VEVENT
SUMMARY:Acte de cloenda de Debats constitucionals - Reflexions i anotacions al voltant de com volem que sigui la nova constitució catalana
DTSTART;TZID=Europe/Madrid;VALUE=DATE-TIME:20150703T193000
DTEND;TZID=Europe/Madrid;VALUE=DATE-TIME:20150703T203000
DTSTAMP;VALUE=DATE-TIME:20260423T092508Z
UID:ff7d531786dda3c3d5c4797af7b29fa1
CREATED;VALUE=DATE-TIME:20150703T000000Z
CATEGORIES:Conferència
LOCATION:Ateneu Arenyenc - Anselm Clavé, 22
ORGANIZER:ANC Arenys de Mar, Ateneu Arenyenc i Reinicia.cat
COMMENT:Preu: Gratuït
URL:https://arenysdemar.cat/document.php?id=29779
END:VEVENT
END:VCALENDAR