BEGIN:VCALENDAR
VERSION:2.0
PRODID:-//Plone.org//NONSGML plone.app.event//EN
X-WR-TIMEZONE:Europe/Madrid
BEGIN:VEVENT
SUMMARY:Festa al carrer Tossol
DTSTART;TZID=Europe/Madrid;VALUE=DATE-TIME:20150605T000000
DTEND;TZID=Europe/Madrid;VALUE=DATE-TIME:20150605T010000
DTSTAMP;VALUE=DATE-TIME:20260421T034509Z
UID:d7ecd64ec670dd707ec16a892aa16ea8
CREATED;VALUE=DATE-TIME:20150605T000000Z
CATEGORIES:Festa
LOCATION:al carrer Tossol
ORGANIZER:Comissió de festes C. Tossol
COMMENT:Durada: fins al 7 de juny
URL:https://arenysdemar.cat/document.php?id=29786
END:VEVENT
END:VCALENDAR