BEGIN:VCALENDAR
VERSION:2.0
PRODID:-//Plone.org//NONSGML plone.app.event//EN
X-WR-TIMEZONE:Europe/Madrid
BEGIN:VEVENT
SUMMARY:Matí de Festa Major
DTSTART;TZID=Europe/Madrid;VALUE=DATE-TIME:20150709T110000
DTEND;TZID=Europe/Madrid;VALUE=DATE-TIME:20150709T120000
DTSTAMP;VALUE=DATE-TIME:20260423T103936Z
UID:63fb2307ce262089214eedbb35a55c0f
CREATED;VALUE=DATE-TIME:20150709T000000Z
CATEGORIES:Festa,Infantils,Música
LOCATION:Plaça de l'Església - Plaça de l'Església
ORGANIZER:Federació d'Entitats per a la Cultura Popular i Tradicional d'Arenys de Mar
URL:https://arenysdemar.cat/document.php?id=29806
END:VEVENT
END:VCALENDAR