BEGIN:VCALENDAR
VERSION:2.0
PRODID:-//Plone.org//NONSGML plone.app.event//EN
X-WR-TIMEZONE:Europe/Madrid
BEGIN:VEVENT
SUMMARY:Fira de Brocanters
DTSTART;TZID=Europe/Madrid;VALUE=DATE-TIME:20150614T100000
DTEND;TZID=Europe/Madrid;VALUE=DATE-TIME:20150614T110000
DTSTAMP;VALUE=DATE-TIME:20260423T110108Z
UID:2b24fd52058272068757e8cafc3f5908
CREATED;VALUE=DATE-TIME:20150614T000000Z
CATEGORIES:Mostra
LOCATION:Riera, davant del C.C. Calisay
ORGANIZER:Associació Col·leccionisme Nou i Vell (Crisàlide)
COMMENT:Durada: fins a les 3 de la tarda
URL:https://arenysdemar.cat/document.php?id=29810
END:VEVENT
END:VCALENDAR