BEGIN:VCALENDAR
VERSION:2.0
PRODID:-//Plone.org//NONSGML plone.app.event//EN
X-WR-TIMEZONE:Europe/Madrid
BEGIN:VEVENT
SUMMARY:Fira del Col·leccionisme
DTSTART;TZID=Europe/Madrid;VALUE=DATE-TIME:20150531T090000
DTEND;TZID=Europe/Madrid;VALUE=DATE-TIME:20150531T100000
DTSTAMP;VALUE=DATE-TIME:20260420T143147Z
UID:2fed9760b904acd7f409bd0ef83b2221
CREATED;VALUE=DATE-TIME:20150531T000000Z
CATEGORIES:Mostra
LOCATION:Riera, davant del C.C. Calisay
ORGANIZER:Associació del Col·leccionisme Llebeig
COMMENT:Durada: de 9 a 14h
URL:https://arenysdemar.cat/document.php?id=29814
END:VEVENT
END:VCALENDAR