BEGIN:VCALENDAR
VERSION:2.0
PRODID:-//Plone.org//NONSGML plone.app.event//EN
X-WR-TIMEZONE:Europe/Madrid
BEGIN:VEVENT
SUMMARY:La dormida dels gegants
DTSTART;TZID=Europe/Madrid;VALUE=DATE-TIME:20150703T203000
DTEND;TZID=Europe/Madrid;VALUE=DATE-TIME:20150703T213000
DTSTAMP;VALUE=DATE-TIME:20260419T235059Z
UID:2dced7d6e44a9f2759728b0834c73c9a
CREATED;VALUE=DATE-TIME:20150703T000000Z
CATEGORIES:Festa
LOCATION:Riera, davant del C.C. Calisay
ORGANIZER:Associació de Geganters d'Arenys de Mar
URL:https://arenysdemar.cat/document.php?id=29816
END:VEVENT
END:VCALENDAR