BEGIN:VCALENDAR
VERSION:2.0
PRODID:-//Plone.org//NONSGML plone.app.event//EN
X-WR-TIMEZONE:Europe/Madrid
BEGIN:VEVENT
SUMMARY:Lliurament de xumets als gegants
DTSTART;TZID=Europe/Madrid;VALUE=DATE-TIME:20150709T170000
DTEND;TZID=Europe/Madrid;VALUE=DATE-TIME:20150709T180000
DTSTAMP;VALUE=DATE-TIME:20260420T033334Z
UID:e1e69a48b139346e79e7169ec0c52800
CREATED;VALUE=DATE-TIME:20150709T000000Z
CATEGORIES:Festa
LOCATION:Plaça de l'Església - Plaça de l'Església
ORGANIZER:Associació de Geganters d'Arenys de Mar
DESCRIPTION:Dóna-li el xumet al teu gegant favorit!
URL:https://arenysdemar.cat/document.php?id=29818
END:VEVENT
END:VCALENDAR