BEGIN:VCALENDAR
VERSION:2.0
PRODID:-//Plone.org//NONSGML plone.app.event//EN
X-WR-TIMEZONE:Europe/Madrid
BEGIN:VEVENT
SUMMARY:Barraques 2015
DTSTART;TZID=Europe/Madrid;VALUE=DATE-TIME:20150710T235900
DTEND;TZID=Europe/Madrid;VALUE=DATE-TIME:20150711T005900
DTSTAMP;VALUE=DATE-TIME:20260423T135733Z
UID:aecb85dbdde020c7630ddf2811b274c8
CREATED;VALUE=DATE-TIME:20150710T000000Z
CATEGORIES:Festa
LOCATION:Platja de la Picòrdia
ORGANIZER:Cau Flos i Calcat, Cau Sant Francesc, Sinera Borroka, Patronat de Sant Roc, Associació Pubillatge i Regidoria de Joventut
DESCRIPTION:amb les actuacions de Insershow, Mr. Freak Ska i Juantxo Skalari
URL:https://arenysdemar.cat/document.php?id=29829
END:VEVENT
END:VCALENDAR