BEGIN:VCALENDAR
VERSION:2.0
PRODID:-//Plone.org//NONSGML plone.app.event//EN
X-WR-TIMEZONE:Europe/Madrid
BEGIN:VEVENT
SUMMARY:Ball a l'Ateneu
DTSTART;TZID=Europe/Madrid;VALUE=DATE-TIME:20150529T213000
DTEND;TZID=Europe/Madrid;VALUE=DATE-TIME:20150529T223000
DTSTAMP;VALUE=DATE-TIME:20260424T204522Z
UID:c70a3c288674ab3495280730eeb3832d
CREATED;VALUE=DATE-TIME:20150529T000000Z
CATEGORIES:Dansa,Festa,Música
LOCATION:Ateneu Arenyenc - Anselm Clavé, 22
ORGANIZER:Ateneu Arenyenc i Escola de Música d'Arenys de Mar
COMMENT:Preu: 7&euro; entrada general i 5&euro; socis Escola de Música (gratuït fins a 16 anys)
DESCRIPTION:amb l'actuació de la Bigband Menuts i Bigband Arenys sota la direcció de Josep Juan
URL:https://arenysdemar.cat/document.php?id=29851
END:VEVENT
END:VCALENDAR