BEGIN:VCALENDAR
VERSION:2.0
PRODID:-//Plone.org//NONSGML plone.app.event//EN
X-WR-TIMEZONE:Europe/Madrid
BEGIN:VEVENT
SUMMARY:Torneig d'escacs infantil i adults
DTSTART;TZID=Europe/Madrid;VALUE=DATE-TIME:20150709T103000
DTEND;TZID=Europe/Madrid;VALUE=DATE-TIME:20150709T113000
DTSTAMP;VALUE=DATE-TIME:20260423T224659Z
UID:9fd4b23c2eed3189a7b4029f3e5e288e
CREATED;VALUE=DATE-TIME:20150709T000000Z
CATEGORIES:Esports
LOCATION:Ateneu Arenyenc Sala social. - Anselm Clavé, 22
ORGANIZER:Secció Escacs Ateneu Arenyenc
URL:https://arenysdemar.cat/document.php?id=29852
END:VEVENT
END:VCALENDAR