BEGIN:VCALENDAR
VERSION:2.0
PRODID:-//Plone.org//NONSGML plone.app.event//EN
X-WR-TIMEZONE:Europe/Madrid
BEGIN:VEVENT
SUMMARY:Taller de dansa creativa per a totes les edats: Consciència i expressió corporal
DTSTART;TZID=Europe/Madrid;VALUE=DATE-TIME:20150728T200000
DTEND;TZID=Europe/Madrid;VALUE=DATE-TIME:20150728T210000
DTSTAMP;VALUE=DATE-TIME:20260420T111606Z
UID:c58bbbbcee23b2ad31997106a6a92234
CREATED;VALUE=DATE-TIME:20150728T000000Z
CATEGORIES:Dansa,Música
LOCATION:Biblioplatja - Platja de la Picòrdia
ORGANIZER:Biblioteca - Regidoria de Cultura
DESCRIPTION:a càrrec de Carla i Marta Mora
URL:https://arenysdemar.cat/document.php?id=29874
END:VEVENT
END:VCALENDAR