BEGIN:VCALENDAR
VERSION:2.0
PRODID:-//Plone.org//NONSGML plone.app.event//EN
X-WR-TIMEZONE:Europe/Madrid
BEGIN:VEVENT
SUMMARY:Ball amb el disc-jockey de l'Ateneu
DTSTART;TZID=Europe/Madrid;VALUE=DATE-TIME:20150607T183000
DTEND;TZID=Europe/Madrid;VALUE=DATE-TIME:20150607T193000
DTSTAMP;VALUE=DATE-TIME:20260420T015818Z
UID:d2982300e5735dd2114fd089ee1322a8
CREATED;VALUE=DATE-TIME:20150607T000000Z
CATEGORIES:Festa
LOCATION:Ateneu Arenyenc - Anselm Clavé, 22
ORGANIZER:Ateneu Seccions
COMMENT:Preu: Gratuït
DESCRIPTION:Jornada de Portes Obertes a l'Ateneu
URL:https://arenysdemar.cat/document.php?id=29881
END:VEVENT
END:VCALENDAR