BEGIN:VCALENDAR
VERSION:2.0
PRODID:-//Plone.org//NONSGML plone.app.event//EN
X-WR-TIMEZONE:Europe/Madrid
BEGIN:VEVENT
SUMMARY:La Pesta
DTSTART;TZID=Europe/Madrid;VALUE=DATE-TIME:20150815T200000
DTEND;TZID=Europe/Madrid;VALUE=DATE-TIME:20150815T210000
DTSTAMP;VALUE=DATE-TIME:20260420T055622Z
UID:1d4bd851b241410855227dbb6e0ff2b0
CREATED;VALUE=DATE-TIME:20150815T000000Z
CATEGORIES:Festa
LOCATION:Plaça de l'Església - Plaça de l'Església
ORGANIZER:Ass. d'Amics del Patrimoni Cultural Arenyenc i l'Ajuntament d'Arenys de Mar i Ajuntament d'Arenys de Mar
DESCRIPTION:Atenció: només es farà l'espectacle final de les 22.30h (si el temps ho permet)
URL:https://arenysdemar.cat/document.php?id=29965
END:VEVENT
END:VCALENDAR