BEGIN:VCALENDAR
VERSION:2.0
PRODID:-//Plone.org//NONSGML plone.app.event//EN
X-WR-TIMEZONE:Europe/Madrid
BEGIN:VEVENT
SUMMARY:Tradicional Dansa d'Arenys
DTSTART;TZID=Europe/Madrid;VALUE=DATE-TIME:20150816T200000
DTEND;TZID=Europe/Madrid;VALUE=DATE-TIME:20150816T210000
DTSTAMP;VALUE=DATE-TIME:20260420T054943Z
UID:60b1596e270e3e93476322068a71649d
CREATED;VALUE=DATE-TIME:20150816T000000Z
CATEGORIES:Festa
LOCATION:a la Riera davant l'edifici Xifré
ORGANIZER:Esbart Maragall de Joventut Seràfica i Ajuntament d'Arenys de Mar
DESCRIPTION:a càrrec de l'Esbart Maragall de Joventut Seràfica
URL:https://arenysdemar.cat/document.php?id=29970
END:VEVENT
END:VCALENDAR