BEGIN:VCALENDAR
VERSION:2.0
PRODID:-//Plone.org//NONSGML plone.app.event//EN
X-WR-TIMEZONE:Europe/Madrid
BEGIN:VEVENT
SUMMARY:Arenys de contes: 7è Concurs de crits
DTSTART;TZID=Europe/Madrid;VALUE=DATE-TIME:20150817T193000
DTEND;TZID=Europe/Madrid;VALUE=DATE-TIME:20150817T203000
DTSTAMP;VALUE=DATE-TIME:20260420T075121Z
UID:02e07b5328a0b21db29fe28de1c092cb
CREATED;VALUE=DATE-TIME:20150817T000000Z
CATEGORIES:Festa
LOCATION:Plaça de l'Església - Plaça de l'Església
ORGANIZER:Festival de contes i Ajuntament d'Arenys de Mar
URL:https://arenysdemar.cat/document.php?id=29974
END:VEVENT
END:VCALENDAR