BEGIN:VCALENDAR
VERSION:2.0
PRODID:-//Plone.org//NONSGML plone.app.event//EN
X-WR-TIMEZONE:Europe/Madrid
BEGIN:VEVENT
SUMMARY:Arenys de contes. XII Festival de narració oral: Contes amb gust de xocolata
DTSTART;TZID=Europe/Madrid;VALUE=DATE-TIME:20150812T220000
DTEND;TZID=Europe/Madrid;VALUE=DATE-TIME:20150812T230000
DTSTAMP;VALUE=DATE-TIME:20260420T093005Z
UID:c14249640be9c826bc9585855cbd687e
CREATED;VALUE=DATE-TIME:20150812T000000Z
CATEGORIES:Literatura
LOCATION:Biblioplatja - Platja de la Picòrdia
ORGANIZER:Biblioteca - Regidoria de Cultura
DESCRIPTION:a càrrec de Susagna Navó
URL:https://arenysdemar.cat/document.php?id=29983
END:VEVENT
END:VCALENDAR