BEGIN:VCALENDAR
VERSION:2.0
PRODID:-//Plone.org//NONSGML plone.app.event//EN
X-WR-TIMEZONE:Europe/Madrid
BEGIN:VEVENT
SUMMARY:Arenys de contes - XII Festival de narració oral: La biblioteca d'Asini Polió
DTSTART;TZID=Europe/Madrid;VALUE=DATE-TIME:20150805T220000
DTEND;TZID=Europe/Madrid;VALUE=DATE-TIME:20150805T230000
DTSTAMP;VALUE=DATE-TIME:20260422T134558Z
UID:562ebd4c4bd7aa2ec31f1a9a77e96a56
CREATED;VALUE=DATE-TIME:20150805T000000Z
CATEGORIES:Literatura
LOCATION:Biblioplatja - Platja de la Picòrdia
ORGANIZER:Biblioteca - Regidoria de Cultura
DESCRIPTION:a càrrec d'Albert Estengre
URL:https://arenysdemar.cat/document.php?id=29986
END:VEVENT
END:VCALENDAR