BEGIN:VCALENDAR
VERSION:2.0
PRODID:-//Plone.org//NONSGML plone.app.event//EN
X-WR-TIMEZONE:Europe/Madrid
BEGIN:VEVENT
SUMMARY:Música: Un peu, beaucoup...
DTSTART;TZID=Europe/Madrid;VALUE=DATE-TIME:20150704T220000
DTEND;TZID=Europe/Madrid;VALUE=DATE-TIME:20150704T230000
DTSTAMP;VALUE=DATE-TIME:20260423T231145Z
UID:c302f54a407625d35d52d791ef3fa5bd
CREATED;VALUE=DATE-TIME:20150704T000000Z
CATEGORIES:Música
LOCATION:Teatre Principal - C. Església, 45-47
ORGANIZER:Societat Coral l'Esperança i Regidoria de Cultura
COMMENT:Preu: Gratuït
DESCRIPTION:a càrrec del grup musical suís Les Ploufs
URL:https://arenysdemar.cat/document.php?id=30008
END:VEVENT
END:VCALENDAR