BEGIN:VCALENDAR
VERSION:2.0
PRODID:-//Plone.org//NONSGML plone.app.event//EN
X-WR-TIMEZONE:Europe/Madrid
BEGIN:VEVENT
SUMMARY:Ruta guiada cultural: Entre turons una vila
DTSTART;TZID=Europe/Madrid;VALUE=DATE-TIME:20151108T110000
DTEND;TZID=Europe/Madrid;VALUE=DATE-TIME:20151108T120000
DTSTAMP;VALUE=DATE-TIME:20260424T094655Z
UID:a181aacb7f0e8ce21e8005f18cb7b2ec
CREATED;VALUE=DATE-TIME:20151108T000000Z
CATEGORIES:Mostra
LOCATION:Plaça de l'Església - Plaça de l'Església
ORGANIZER:Ajuntament d'Arenys de Mar i Sinera Cultura
COMMENT:Preu: Gratuït. Cal fer inscripció prèvia a l'Oficina de Turisme 937957039 o bé a turisme@arenysdemar.cat
URL:https://arenysdemar.cat/document.php?id=30055
END:VEVENT
END:VCALENDAR