BEGIN:VCALENDAR
VERSION:2.0
PRODID:-//Plone.org//NONSGML plone.app.event//EN
X-WR-TIMEZONE:Europe/Madrid
BEGIN:VEVENT
SUMMARY:Ruta: Arenys de lletres
DTSTART;TZID=Europe/Madrid;VALUE=DATE-TIME:20151025T110000
DTEND;TZID=Europe/Madrid;VALUE=DATE-TIME:20151025T120000
DTSTAMP;VALUE=DATE-TIME:20260423T054141Z
UID:567d3ff2d98efdb63fd1dac9d597587b
CREATED;VALUE=DATE-TIME:20151025T000000Z
CATEGORIES:Mostra
LOCATION:Plaça de l'Ajuntament - Riera Bisbe Pol, 8
ORGANIZER:Ajuntament d'Arenys de Mar i Sinera Cultura
COMMENT:Preu: gratuït
URL:https://arenysdemar.cat/document.php?id=30056
END:VEVENT
END:VCALENDAR