BEGIN:VCALENDAR
VERSION:2.0
PRODID:-//Plone.org//NONSGML plone.app.event//EN
X-WR-TIMEZONE:Europe/Madrid
BEGIN:VEVENT
SUMMARY:Nit Jove
DTSTART;TZID=Europe/Madrid;VALUE=DATE-TIME:20150814T235900
DTEND;TZID=Europe/Madrid;VALUE=DATE-TIME:20150815T005900
DTSTAMP;VALUE=DATE-TIME:20260420T052536Z
UID:78b3b249f144fa6a5217c37c290f1816
CREATED;VALUE=DATE-TIME:20150814T000000Z
CATEGORIES:Festa
LOCATION:Plaça de l'Església - Plaça de l'Església
ORGANIZER:Cau Sant Francesc, Sinera Borroka i Ajuntament d'Arenys de Mar
DESCRIPTION:amb l'Orquestra Litoral
URL:https://arenysdemar.cat/document.php?id=30075
END:VEVENT
END:VCALENDAR