BEGIN:VCALENDAR
VERSION:2.0
PRODID:-//Plone.org//NONSGML plone.app.event//EN
X-WR-TIMEZONE:Europe/Madrid
BEGIN:VEVENT
SUMMARY:Visita de la Deixalleria mòbil
DTSTART;TZID=Europe/Madrid;VALUE=DATE-TIME:20150725T090000
DTEND;TZID=Europe/Madrid;VALUE=DATE-TIME:20150725T100000
DTSTAMP;VALUE=DATE-TIME:20260423T085905Z
UID:10eea68d475c7f51dfb4ea433ea040a6
CREATED;VALUE=DATE-TIME:20150725T000000Z
LOCATION:Plaça de l'Església
ORGANIZER:Regidoria de Medi Ambient
COMMENT:Durada: Fins a les 2 del migdia
URL:https://arenysdemar.cat/document.php?id=30086
END:VEVENT
END:VCALENDAR