BEGIN:VCALENDAR
VERSION:2.0
PRODID:-//Plone.org//NONSGML plone.app.event//EN
X-WR-TIMEZONE:Europe/Madrid
BEGIN:VEVENT
SUMMARY:Visita de la deixalleria mòbil
DTSTART;TZID=Europe/Madrid;VALUE=DATE-TIME:20151219T090000
DTEND;TZID=Europe/Madrid;VALUE=DATE-TIME:20151219T100000
DTSTAMP;VALUE=DATE-TIME:20260424T022235Z
UID:6a973464dbdc51f030b8dbc02be5ee36
CREATED;VALUE=DATE-TIME:20151219T000000Z
LOCATION:Riera, davant Plaça Mare Paula
ORGANIZER:Regidoria de Medi Ambient
COMMENT:Durada: Fins les 2 del migdia
URL:https://arenysdemar.cat/document.php?id=30090
END:VEVENT
END:VCALENDAR