BEGIN:VCALENDAR
VERSION:2.0
PRODID:-//Plone.org//NONSGML plone.app.event//EN
X-WR-TIMEZONE:Europe/Madrid
BEGIN:VEVENT
SUMMARY:Visita de la deixalleria mòbil
DTSTART;TZID=Europe/Madrid;VALUE=DATE-TIME:20150919T090000
DTEND;TZID=Europe/Madrid;VALUE=DATE-TIME:20150919T100000
DTSTAMP;VALUE=DATE-TIME:20260423T071750Z
UID:c300259df7edc4897119d5cc6760dd81
CREATED;VALUE=DATE-TIME:20150919T000000Z
LOCATION:Riera del Pare Fita, a l'alçada de la plaça Mare Paula
ORGANIZER:Regidoria de Medi Ambient
COMMENT:Durada: fins les 2 del migdia
URL:https://arenysdemar.cat/document.php?id=30092
END:VEVENT
END:VCALENDAR