BEGIN:VCALENDAR
VERSION:2.0
PRODID:-//Plone.org//NONSGML plone.app.event//EN
X-WR-TIMEZONE:Europe/Madrid
BEGIN:VEVENT
SUMMARY:Visita de la deixalleria mòbil
DTSTART;TZID=Europe/Madrid;VALUE=DATE-TIME:20150829T090000
DTEND;TZID=Europe/Madrid;VALUE=DATE-TIME:20150829T100000
DTSTAMP;VALUE=DATE-TIME:20260423T085734Z
UID:5f69abef80d083523809c9547ffbaa10
CREATED;VALUE=DATE-TIME:20150829T000000Z
LOCATION:Plaça de l'Església
ORGANIZER:Regidoria de Medi Ambient
COMMENT:Durada: fins les 2 del migdia
URL:https://arenysdemar.cat/document.php?id=30094
END:VEVENT
END:VCALENDAR