BEGIN:VCALENDAR
VERSION:2.0
PRODID:-//Plone.org//NONSGML plone.app.event//EN
X-WR-TIMEZONE:Europe/Madrid
BEGIN:VEVENT
SUMMARY:Proclamació Pubillatge Arenyenc
DTSTART;TZID=Europe/Madrid;VALUE=DATE-TIME:20151010T193000
DTEND;TZID=Europe/Madrid;VALUE=DATE-TIME:20151010T203000
DTSTAMP;VALUE=DATE-TIME:20260423T040904Z
UID:a94cc98b183057029f5424a120517b6d
CREATED;VALUE=DATE-TIME:20151010T000000Z
CATEGORIES:Festa
LOCATION:Pati del C.C.Calisay - Riera del Pare Fita, 31
ORGANIZER:Ajuntament d'Arenys de Mar/Pubillatge Arenyenc
COMMENT:Durada: 21:00h
DESCRIPTION:Proclamació hereu i pubilla d'Arenys de Mar 2015
URL:https://arenysdemar.cat/document.php?id=30188
END:VEVENT
END:VCALENDAR