BEGIN:VCALENDAR
VERSION:2.0
PRODID:-//Plone.org//NONSGML plone.app.event//EN
X-WR-TIMEZONE:Europe/Madrid
BEGIN:VEVENT
SUMMARY:Teatre familiar: El silenci d'Hamelin
DTSTART;TZID=Europe/Madrid;VALUE=DATE-TIME:20151129T180000
DTEND;TZID=Europe/Madrid;VALUE=DATE-TIME:20151129T190000
DTSTAMP;VALUE=DATE-TIME:20260424T040957Z
UID:1c234c5ea1d0ac25c62e3f62083506cd
CREATED;VALUE=DATE-TIME:20151129T000000Z
CATEGORIES:Infantils
LOCATION:Teatre Principal - C. Església, 45-47
ORGANIZER:S.C. L'Esperança i Regidoria de Cultura
COMMENT:Preu: Anticipada 5, taquilla 6 i socis 4
DESCRIPTION:a càrrec de la Cia. Farrés Brothers
URL:https://arenysdemar.cat/document.php?id=30192
END:VEVENT
END:VCALENDAR