BEGIN:VCALENDAR
VERSION:2.0
PRODID:-//Plone.org//NONSGML plone.app.event//EN
X-WR-TIMEZONE:Europe/Madrid
BEGIN:VEVENT
SUMMARY:Conferència de Món Contemporani: Més enllà dels secrets del Vaticà. Reformes i resistències del Papa Francesc
DTSTART;TZID=Europe/Madrid;VALUE=DATE-TIME:20151020T180000
DTEND;TZID=Europe/Madrid;VALUE=DATE-TIME:20151020T190000
DTSTAMP;VALUE=DATE-TIME:20260423T052628Z
UID:39dc06d29e0f3ed4ba85290f2339c49a
CREATED;VALUE=DATE-TIME:20151020T000000Z
CATEGORIES:Conferència
LOCATION:Sala Josep Maria Arnau del C.C.Calisay - Riera del Pare Fita, 31
ORGANIZER:Aula d'Extensió Universitària
DESCRIPTION:a càrrec de Vicenç Lozano, periodista de TV3 Televisió de Catalunya
URL:https://arenysdemar.cat/document.php?id=30210
END:VEVENT
END:VCALENDAR