BEGIN:VCALENDAR
VERSION:2.0
PRODID:-//Plone.org//NONSGML plone.app.event//EN
X-WR-TIMEZONE:Europe/Madrid
BEGIN:VEVENT
SUMMARY:II Cursa nocturna d'Arenys de Mar
DTSTART;TZID=Europe/Madrid;VALUE=DATE-TIME:20151003T200000
DTEND;TZID=Europe/Madrid;VALUE=DATE-TIME:20151003T210000
DTSTAMP;VALUE=DATE-TIME:20260423T082854Z
UID:6b70c85f23da0524900a148f361f0e70
CREATED;VALUE=DATE-TIME:20151003T000000Z
CATEGORIES:Esports
LOCATION:Riera, davant la plaça de l'Església
ORGANIZER:Opensports, Fedamar i Penya Apa Anem-hi
COMMENT:Preu: 10 o 12 euros grans i 6 euros petits
DESCRIPTION:Gran Premi OpenSports
URL:https://arenysdemar.cat/document.php?id=30222
END:VEVENT
END:VCALENDAR