BEGIN:VCALENDAR
VERSION:2.0
PRODID:-//Plone.org//NONSGML plone.app.event//EN
X-WR-TIMEZONE:Europe/Madrid
BEGIN:VEVENT
SUMMARY:La sort proposa!
DTSTART;TZID=Europe/Madrid;VALUE=DATE-TIME:20151003T173000
DTEND;TZID=Europe/Madrid;VALUE=DATE-TIME:20151003T183000
DTSTAMP;VALUE=DATE-TIME:20260423T052723Z
UID:25e839d7504bdeb05acf6a11548186c1
CREATED;VALUE=DATE-TIME:20151003T000000Z
LOCATION:Espai Jove del C.C.Calisay - Riera del Pare Fita, 31
ORGANIZER:Regidoria d'Infància i Joventut
DESCRIPTION:Decidim activitats fent dinàmiques!
URL:https://arenysdemar.cat/document.php?id=30230
END:VEVENT
END:VCALENDAR