BEGIN:VCALENDAR
VERSION:2.0
PRODID:-//Plone.org//NONSGML plone.app.event//EN
X-WR-TIMEZONE:Europe/Madrid
BEGIN:VEVENT
SUMMARY:Retrats viscuts 2014. Un agraïment fotogràfic a reconeguts arenyencs (reposició)
DTSTART;TZID=Europe/Madrid;VALUE=DATE-TIME:20151003T180000
DTEND;TZID=Europe/Madrid;VALUE=DATE-TIME:20151003T190000
DTSTAMP;VALUE=DATE-TIME:20260423T065506Z
UID:06349b14fe8ea296220931ff3892b7db
CREATED;VALUE=DATE-TIME:20151003T000000Z
CATEGORIES:Exposició
LOCATION:Casal de Joventut Seràfica i Restaurant 13 Taules
ORGANIZER:Agrupació Fotogràfica d'Arenys de Mar amb la col·laboració del Casal de Joventut Seràfica, El Restaurant 13 Taules i Arxiu Històric Municipal
COMMENT:Durada: fins al 25 d'octubre
DESCRIPTION:a càrrec de l'Agrupació Fotogràfica d'Arenys de Mar
URL:https://arenysdemar.cat/document.php?id=30231
END:VEVENT
END:VCALENDAR